BEGIN:VCALENDAR
METHOD:REQUEST
PRODID:Microsoft Exchange Server 2010
VERSION:2.0
BEGIN:VTIMEZONE
TZID:Central Standard Time
BEGIN:STANDARD
DTSTART:16010101T020000
TZOFFSETFROM:-0500
TZOFFSETTO:-0600
RRULE:FREQ=YEARLY;INTERVAL=1;BYDAY=1SU;BYMONTH=11
END:STANDARD
BEGIN:DAYLIGHT
DTSTART:16010101T020000
TZOFFSETFROM:-0600
TZOFFSETTO:-0500
RRULE:FREQ=YEARLY;INTERVAL=1;BYDAY=2SU;BYMONTH=3
END:DAYLIGHT
END:VTIMEZONE
BEGIN:VEVENT
ORGANIZER;CN="Moore, Kendal":mailto:Kendal_Moore@baylor.edu
ATTENDEE;ROLE=OPT-PARTICIPANT;PARTSTAT=NEEDS-ACTION;RSVP=TRUE;CN=athstaff:m
 ailto:athstaff@baylor.edu
ATTACH:CID:image001.png@01DCCDAC.68491040
DESCRIPTION;LANGUAGE=en-US:All-\n\n\n\nIn the spirit of providing valuable 
 opportunities to learn and grow together\, we are excited to begin an intr
 adepartmental professional development series that will kickoff on May 11 
 and occur twice a semester moving forward.\n\n\n\nA calendar invite will f
 ollow\, but the details are: 8:30 AM on May 11 Baylor Athletics will host 
 a conversation with Jaime and Colin Faulkner. Both proud Baylor alums\, Ja
 ime is the President of the NHL’s Chicago Blackhawks and Colin is the Ex
 ecutive VP for Sales & Marketing and Chief Commercial Officer for the Chic
 ago Cubs of Major League Baseball. The conversation will highlight themes 
 such as being fan first\, driving revenue\, and exploring translatable les
 sons from pro sports to our current college environment.\n\n\n\nThe attend
 ance expectations for May 11th and these sessions moving forward are simpl
 e\, straightforward\, and as follows:\n\nAll may. Some should. None must.\
 n\n\n\nIn other words\, everyone in the department is welcome to attend. T
 hose who are in leadership positions and/or are actively seeking professio
 nal development opportunities should attend. But there will be no requirem
 ent to attend. We would ask that you please help us prepare appropriately 
 for the audience size by responding with an RSVP to the calendar invite wh
 en it goes out.\n\n\n\nThanks and look forward to it!\n\n_________________
 _____________________________\nKendal Moore | Executive Assistant to the V
 P and Director of Intercollegiate Athletics\nDepartment of Athletics | Bay
 lor University\nO: 254-710-1234 | C: 254-461-0538\n[cid:image001.png@01DCC
 DAC.68491040]\n\n\n
UID:040000008200E00074C5B7101A82E00800000000E0831748A9CDDC01000000000000000
 010000000335C969310A12744BA559BAADB76A2CA
SUMMARY;LANGUAGE=en-US:Intradepartmental Professional Development Series
DTSTART;TZID=Central Standard Time:20260511T083000
DTEND;TZID=Central Standard Time:20260511T100000
CLASS:PUBLIC
PRIORITY:5
DTSTAMP:20260416T192208Z
TRANSP:OPAQUE
STATUS:CONFIRMED
SEQUENCE:0
LOCATION;LANGUAGE=en-US:Simpson Center\; -Fred Miller Theater
X-MICROSOFT-CDO-APPT-SEQUENCE:0
X-MICROSOFT-CDO-OWNERAPPTID:-271562774
X-MICROSOFT-CDO-BUSYSTATUS:TENTATIVE
X-MICROSOFT-CDO-INTENDEDSTATUS:BUSY
X-MICROSOFT-CDO-ALLDAYEVENT:FALSE
X-MICROSOFT-CDO-IMPORTANCE:1
X-MICROSOFT-CDO-INSTTYPE:0
X-MICROSOFT-SKYPETEAMSMEETINGURL:
X-MICROSOFT-SCHEDULINGSERVICEUPDATEURL:
X-MICROSOFT-SKYPETEAMSPROPERTIES:
X-MICROSOFT-DONOTFORWARDMEETING:FALSE
X-MICROSOFT-DISALLOW-COUNTER:FALSE
X-MICROSOFT-REQUESTEDATTENDANCEMODE:DEFAULT
X-MICROSOFT-ISRESPONSEREQUESTED:TRUE
X-MICROSOFT-LOCATIONS:[ { "DisplayName" : "Simpson Center"\, "LocationAnnot
 ation" : ""\, "LocationSource" : 1\, "Unresolved" : false\, "LocationUri" 
 : "https://www.bingapis.com/api/v6/localbusinesses/YND5B10C4DF3621114"\, "
 Latitude" : 31.5515\, "Longitude" : -97.113\, "LocationStreet" : "1500 S U
 niversity Parks Dr"\, "LocationCity" : "Waco"\, "LocationState" : "TX"\, "
 LocationCountry" : "United States"\, "LocationPostalCode" : "76706"\, "Loc
 ationFullAddress" : "1500 S University Parks Dr\, Waco\, TX  76706" }\, { 
 "DisplayName" : "-Fred Miller Theater"\, "LocationAnnotation" : ""\, "Loca
 tionSource" : 0\, "Unresolved" : true\, "LocationUri" : "" } ]
BEGIN:VALARM
DESCRIPTION:REMINDER
TRIGGER;RELATED=START:-PT15M
ACTION:DISPLAY
END:VALARM
END:VEVENT
END:VCALENDAR
